BEGIN:VCALENDAR
VERSION:2.0
PRODID:-//MiMa Create and Play - ECPv5.0.1//NONSGML v1.0//EN
CALSCALE:GREGORIAN
METHOD:PUBLISH
X-WR-CALNAME:MiMa Create and Play
X-ORIGINAL-URL:https://mimacreateandplay.com
X-WR-CALDESC:Events for MiMa Create and Play
BEGIN:VTIMEZONE
TZID:America/New_York
BEGIN:DAYLIGHT
TZOFFSETFROM:-0500
TZOFFSETTO:-0400
TZNAME:EDT
DTSTART:20250309T070000
END:DAYLIGHT
BEGIN:STANDARD
TZOFFSETFROM:-0400
TZOFFSETTO:-0500
TZNAME:EST
DTSTART:20251102T060000
END:STANDARD
END:VTIMEZONE
BEGIN:VEVENT
DTSTART;TZID=America/New_York:20251115T130000
DTEND;TZID=America/New_York:20251115T170000
DTSTAMP:20260424T230532
CREATED:20251106T202319Z
LAST-MODIFIED:20251106T202319Z
UID:4826-1763211600-1763226000@mimacreateandplay.com
SUMMARY:MIMA'S BIRTHDAY!
DESCRIPTION:TODAY’s THE DAY!!!! \nEnjoy Open Play for only $10 from 1pm to 5pm which includes pizza\, cake\, bubbles\, black light\, paint room\, balloon drop\, a kids DJ\, fun games for kids\, crafts\, goodie bags\, and much more! \n
URL:https://mimacreateandplay.com/event/mimas-birthday/
END:VEVENT
END:VCALENDAR