BEGIN:VCALENDAR
VERSION:2.0
PRODID:-//MiMa Create and Play - ECPv5.0.1//NONSGML v1.0//EN
CALSCALE:GREGORIAN
METHOD:PUBLISH
X-WR-CALNAME:MiMa Create and Play
X-ORIGINAL-URL:https://mimacreateandplay.com
X-WR-CALDESC:Events for MiMa Create and Play
BEGIN:VTIMEZONE
TZID:America/New_York
BEGIN:DAYLIGHT
TZOFFSETFROM:-0500
TZOFFSETTO:-0400
TZNAME:EDT
DTSTART:20210314T070000
END:DAYLIGHT
BEGIN:STANDARD
TZOFFSETFROM:-0400
TZOFFSETTO:-0500
TZNAME:EST
DTSTART:20211107T060000
END:STANDARD
END:VTIMEZONE
BEGIN:VEVENT
DTSTART;TZID=America/New_York:20210724T130000
DTEND;TZID=America/New_York:20210724T150000
DTSTAMP:20260425T134055
CREATED:20210723T174335Z
LAST-MODIFIED:20210723T174335Z
UID:3528-1627131600-1627138800@mimacreateandplay.com
SUMMARY:Open Play
DESCRIPTION:Note: Please be aware that Open Play on the weekends might be unavailable due to Private Events. The best way to stay up to date with our Open Play schedule is to call us at 732-952-8444 or Like us on Facebook! \n
URL:https://mimacreateandplay.com/event/open-play-722/
ATTACH;FMTTYPE=image/jpeg:https://mimacreateandplay.com/wp-content/uploads/2021/07/Copy-of-Daily-Quotes-31.jpg
END:VEVENT
END:VCALENDAR