BEGIN:VCALENDAR
VERSION:2.0
PRODID:-//MiMa Create and Play - ECPv5.0.1//NONSGML v1.0//EN
CALSCALE:GREGORIAN
METHOD:PUBLISH
X-WR-CALNAME:MiMa Create and Play
X-ORIGINAL-URL:https://mimacreateandplay.com
X-WR-CALDESC:Events for MiMa Create and Play
BEGIN:VTIMEZONE
TZID:America/New_York
BEGIN:DAYLIGHT
TZOFFSETFROM:-0500
TZOFFSETTO:-0400
TZNAME:EDT
DTSTART:20260308T070000
END:DAYLIGHT
BEGIN:STANDARD
TZOFFSETFROM:-0400
TZOFFSETTO:-0500
TZNAME:EST
DTSTART:20261101T060000
END:STANDARD
END:VTIMEZONE
BEGIN:VEVENT
DTSTART;TZID=America/New_York:20260228T090000
DTEND;TZID=America/New_York:20260228T131500
DTSTAMP:20260424T163313
CREATED:20260127T183942Z
LAST-MODIFIED:20260210T152146Z
UID:5076-1772269200-1772284500@mimacreateandplay.com
SUMMARY:Open Play
DESCRIPTION:
URL:https://mimacreateandplay.com/event/open-play-925/
END:VEVENT
END:VCALENDAR