BEGIN:VCALENDAR
VERSION:2.0
PRODID:-//MiMa Create and Play - ECPv5.0.1//NONSGML v1.0//EN
CALSCALE:GREGORIAN
METHOD:PUBLISH
X-WR-CALNAME:MiMa Create and Play
X-ORIGINAL-URL:https://mimacreateandplay.com
X-WR-CALDESC:Events for MiMa Create and Play
BEGIN:VTIMEZONE
TZID:America/New_York
BEGIN:DAYLIGHT
TZOFFSETFROM:-0500
TZOFFSETTO:-0400
TZNAME:EDT
DTSTART:20260308T070000
END:DAYLIGHT
BEGIN:STANDARD
TZOFFSETFROM:-0400
TZOFFSETTO:-0500
TZNAME:EST
DTSTART:20261101T060000
END:STANDARD
END:VTIMEZONE
BEGIN:VEVENT
DTSTART;TZID=America/New_York:20260519T093000
DTEND;TZID=America/New_York:20260519T190000
DTSTAMP:20260424T204025
CREATED:20260403T203453Z
LAST-MODIFIED:20260403T203453Z
UID:5284-1779183000-1779217200@mimacreateandplay.com
SUMMARY:Open Play
DESCRIPTION:
URL:https://mimacreateandplay.com/event/open-play-992/
END:VEVENT
END:VCALENDAR