BEGIN:VCALENDAR
VERSION:2.0
PRODID:-//MiMa Create and Play - ECPv5.0.1//NONSGML v1.0//EN
CALSCALE:GREGORIAN
METHOD:PUBLISH
X-WR-CALNAME:MiMa Create and Play
X-ORIGINAL-URL:https://mimacreateandplay.com
X-WR-CALDESC:Events for MiMa Create and Play
BEGIN:VTIMEZONE
TZID:America/New_York
BEGIN:DAYLIGHT
TZOFFSETFROM:-0500
TZOFFSETTO:-0400
TZNAME:EDT
DTSTART:20250309T070000
END:DAYLIGHT
BEGIN:STANDARD
TZOFFSETFROM:-0400
TZOFFSETTO:-0500
TZNAME:EST
DTSTART:20251102T060000
END:STANDARD
END:VTIMEZONE
BEGIN:VEVENT
DTSTART;TZID=America/New_York:20250729T130000
DTEND;TZID=America/New_York:20250729T190000
DTSTAMP:20260425T035420
CREATED:20250613T144748Z
LAST-MODIFIED:20250708T171805Z
UID:4211-1753794000-1753815600@mimacreateandplay.com
SUMMARY:TODDLER TUESDAY - DIFFERENT HOURS
DESCRIPTION:Our hours are adjusted due to a summer camp coming in the morning. We’re sorry for the inconvenience! \n \n
URL:https://mimacreateandplay.com/event/toddler-tuesday-7/
END:VEVENT
END:VCALENDAR