BEGIN:VCALENDAR
VERSION:2.0
PRODID:-//MiMa Create and Play - ECPv5.0.1//NONSGML v1.0//EN
CALSCALE:GREGORIAN
METHOD:PUBLISH
X-WR-CALNAME:MiMa Create and Play
X-ORIGINAL-URL:https://mimacreateandplay.com
X-WR-CALDESC:Events for MiMa Create and Play
BEGIN:VTIMEZONE
TZID:America/New_York
BEGIN:DAYLIGHT
TZOFFSETFROM:-0500
TZOFFSETTO:-0400
TZNAME:EDT
DTSTART:20250309T070000
END:DAYLIGHT
BEGIN:STANDARD
TZOFFSETFROM:-0400
TZOFFSETTO:-0500
TZNAME:EST
DTSTART:20251102T060000
END:STANDARD
END:VTIMEZONE
BEGIN:VEVENT
DTSTART;TZID=America/New_York:20251217T093000
DTEND;TZID=America/New_York:20251217T180000
DTSTAMP:20260424T212349
CREATED:20251026T180824Z
LAST-MODIFIED:20251026T180824Z
UID:4795-1765963800-1765994400@mimacreateandplay.com
SUMMARY:WIGGLE WEDNESDAY
DESCRIPTION:Open Play for $15 and siblings for $14! \n
URL:https://mimacreateandplay.com/event/wiggle-wednesday-8/
END:VEVENT
END:VCALENDAR